BEGIN:VCALENDAR
VERSION:2.0
PRODID:-//Cercle Celtique de Rambouillet - ECPv6.15.20//NONSGML v1.0//EN
CALSCALE:GREGORIAN
METHOD:PUBLISH
X-WR-CALNAME:Cercle Celtique de Rambouillet
X-ORIGINAL-URL:https://kanbreizh.fr
X-WR-CALDESC:Évènements pour Cercle Celtique de Rambouillet
REFRESH-INTERVAL;VALUE=DURATION:PT1H
X-Robots-Tag:noindex
X-PUBLISHED-TTL:PT1H
BEGIN:VTIMEZONE
TZID:Europe/Paris
BEGIN:DAYLIGHT
TZOFFSETFROM:+0100
TZOFFSETTO:+0200
TZNAME:CEST
DTSTART:20220327T010000
END:DAYLIGHT
BEGIN:STANDARD
TZOFFSETFROM:+0200
TZOFFSETTO:+0100
TZNAME:CET
DTSTART:20221030T010000
END:STANDARD
BEGIN:DAYLIGHT
TZOFFSETFROM:+0100
TZOFFSETTO:+0200
TZNAME:CEST
DTSTART:20230326T010000
END:DAYLIGHT
BEGIN:STANDARD
TZOFFSETFROM:+0200
TZOFFSETTO:+0100
TZNAME:CET
DTSTART:20231029T010000
END:STANDARD
BEGIN:DAYLIGHT
TZOFFSETFROM:+0100
TZOFFSETTO:+0200
TZNAME:CEST
DTSTART:20240331T010000
END:DAYLIGHT
BEGIN:STANDARD
TZOFFSETFROM:+0200
TZOFFSETTO:+0100
TZNAME:CET
DTSTART:20241027T010000
END:STANDARD
END:VTIMEZONE
BEGIN:VEVENT
DTSTART;TZID=Europe/Paris:20231014T203000
DTEND;TZID=Europe/Paris:20231015T010500
DTSTAMP:20260423T114620
CREATED:20231012T113900Z
LAST-MODIFIED:20231012T113900Z
UID:2407-1697315400-1697331900@kanbreizh.fr
SUMMARY:Fest Noz des 60 ans à Dreux
DESCRIPTION:Née en 1963\, l’association bretonne et drouaise Sklerijenn ar Vro traverse les générations.Elle fêtera son soixantième anniversaire avec un grand Fest-Noz\, le samedi 14 octobre 2023: \nArticle de journal : ici \nProgramme : \nAvel\nMeskatrad\nSklerijenn ar vro\nFolk en vrac \nLieu :\nEspace Paul-Bert\nrue Grosdemouge\n28100 Dreux\n/*! elementor – v3.16.0 – 14-09-2023 */.elementor-widget-google_maps .elementor-widget-container{overflow:hidden}.elementor-widget-google_maps .elementor-custom-embed{line-height:0}.elementor-widget-google_maps iframe{height:300px} \nClickez pour noter cet article.\n                                   \n                               [Total: 0  Moyenne: 0]
URL:https://kanbreizh.fr/event/fest-noz-des-60-ans-a-dreux/
CATEGORIES:FestNoz
END:VEVENT
BEGIN:VEVENT
DTSTART;TZID=Europe/Paris:20231014T210000
DTEND;TZID=Europe/Paris:20231014T210000
DTSTAMP:20260423T114620
CREATED:20231012T113901Z
LAST-MODIFIED:20231012T113901Z
UID:2409-1697317200-1697317200@kanbreizh.fr
SUMMARY:Fest Noz des Ulis
DESCRIPTION:Le fest-noz annuel des Ulis aura le samedi 14 octobre 2023\, à la salle des fêtes N°1 de Courtaboeuf\,avec Estren\, Andoriñ et Ar Gazeg Veurzh.\nSalle des Fêtes de Courtaboeuf\nAvenue Madagascar\n91940 Les Ulis\n2023 festnoz les ulis \nClickez pour noter cet article.\n                                   \n                               [Total: 0  Moyenne: 0]
URL:https://kanbreizh.fr/event/fest-noz-des-ulis/
CATEGORIES:FestNoz
END:VEVENT
END:VCALENDAR