BEGIN:VCALENDAR
VERSION:2.0
PRODID:-//Cercle Celtique de Rambouillet - ECPv6.15.20//NONSGML v1.0//EN
CALSCALE:GREGORIAN
METHOD:PUBLISH
X-WR-CALNAME:Cercle Celtique de Rambouillet
X-ORIGINAL-URL:https://kanbreizh.fr
X-WR-CALDESC:Évènements pour Cercle Celtique de Rambouillet
REFRESH-INTERVAL;VALUE=DURATION:PT1H
X-Robots-Tag:noindex
X-PUBLISHED-TTL:PT1H
BEGIN:VTIMEZONE
TZID:Europe/Paris
BEGIN:DAYLIGHT
TZOFFSETFROM:+0100
TZOFFSETTO:+0200
TZNAME:CEST
DTSTART:20220327T010000
END:DAYLIGHT
BEGIN:STANDARD
TZOFFSETFROM:+0200
TZOFFSETTO:+0100
TZNAME:CET
DTSTART:20221030T010000
END:STANDARD
BEGIN:DAYLIGHT
TZOFFSETFROM:+0100
TZOFFSETTO:+0200
TZNAME:CEST
DTSTART:20230326T010000
END:DAYLIGHT
BEGIN:STANDARD
TZOFFSETFROM:+0200
TZOFFSETTO:+0100
TZNAME:CET
DTSTART:20231029T010000
END:STANDARD
BEGIN:DAYLIGHT
TZOFFSETFROM:+0100
TZOFFSETTO:+0200
TZNAME:CEST
DTSTART:20240331T010000
END:DAYLIGHT
BEGIN:STANDARD
TZOFFSETFROM:+0200
TZOFFSETTO:+0100
TZNAME:CET
DTSTART:20241027T010000
END:STANDARD
END:VTIMEZONE
BEGIN:VEVENT
DTSTART;TZID=Europe/Paris:20231117T210000
DTEND;TZID=Europe/Paris:20231119T000000
DTSTAMP:20260423T101051
CREATED:20231012T113900Z
LAST-MODIFIED:20231012T113900Z
UID:2405-1700254800-1700352000@kanbreizh.fr
SUMMARY:FESTIVAL CELTES EN OUCHE 2023
DESCRIPTION:13 ieme édition du festival Celtes en Ouche.Il se déroulera du 17 novembre 2023 au 19 novembre 2023 à Conches en Ouche (27)Cabaret celtique\, Grand Fest noz (salle des fêtes)\, concert église de Conches\, spectacle musiques et danses irlandaises….\nRéservez vos places pour les différentes animations : Sur le site\nATTENTION Places limitées\, premiers réservés\, premiers servis !\nLieux et tarifs spécifiques aux animations\, voir sur le site : de 10€ à 27€\n/*! elementor – v3.16.0 – 09-10-2023 */\n.elementor-widget-google_maps .elementor-widget-container{overflow:hidden}.elementor-widget-google_maps .elementor-custom-embed{line-height:0}.elementor-widget-google_maps iframe{height:300px} \nClickez pour noter cet article.\n                                   \n                               [Total: 0  Moyenne: 0]
URL:https://kanbreizh.fr/event/festival-celtes-en-ouche-2023/
END:VEVENT
BEGIN:VEVENT
DTSTART;TZID=Europe/Paris:20231118T200000
DTEND;TZID=Europe/Paris:20231119T000000
DTSTAMP:20260423T101051
CREATED:20231012T113900Z
LAST-MODIFIED:20231012T113900Z
UID:2406-1700337600-1700352000@kanbreizh.fr
SUMMARY:Fest Noz à Pruillé
DESCRIPTION:Dîner breton Fest-NozSamedi 18 novembre à 20h – Salle des Fêtes de Pruillé l’Eguillé\nTroupe de danseurs et\nmusiciens du cercle celtique\nKan Breizh de Rambouillet \nCONTACT : comitelostres@gmail.com\nTél. 06 14 18 44 18 – 02 43 72 25 22\nRESERVATION AVANT LE 30 OCTOBRE\n/*! elementor – v3.16.0 – 20-09-2023 */.elementor-widget-google_maps .elementor-widget-container{overflow:hidden}.elementor-widget-google_maps .elementor-custom-embed{line-height:0}.elementor-widget-google_maps iframe{height:300px} \nClickez pour noter cet article.\n                                   \n                               [Total: 0  Moyenne: 0]
URL:https://kanbreizh.fr/event/fest-noz-a-pruille/
CATEGORIES:FestNoz,Prestations
END:VEVENT
END:VCALENDAR