BEGIN:VCALENDAR
VERSION:2.0
PRODID:-//Cercle Celtique de Rambouillet - ECPv6.15.20//NONSGML v1.0//EN
CALSCALE:GREGORIAN
METHOD:PUBLISH
X-ORIGINAL-URL:https://kanbreizh.fr
X-WR-CALDESC:Évènements pour Cercle Celtique de Rambouillet
REFRESH-INTERVAL;VALUE=DURATION:PT1H
X-Robots-Tag:noindex
X-PUBLISHED-TTL:PT1H
BEGIN:VTIMEZONE
TZID:Europe/Paris
BEGIN:DAYLIGHT
TZOFFSETFROM:+0100
TZOFFSETTO:+0200
TZNAME:CEST
DTSTART:20230326T010000
END:DAYLIGHT
BEGIN:STANDARD
TZOFFSETFROM:+0200
TZOFFSETTO:+0100
TZNAME:CET
DTSTART:20231029T010000
END:STANDARD
BEGIN:DAYLIGHT
TZOFFSETFROM:+0100
TZOFFSETTO:+0200
TZNAME:CEST
DTSTART:20240331T010000
END:DAYLIGHT
BEGIN:STANDARD
TZOFFSETFROM:+0200
TZOFFSETTO:+0100
TZNAME:CET
DTSTART:20241027T010000
END:STANDARD
BEGIN:DAYLIGHT
TZOFFSETFROM:+0100
TZOFFSETTO:+0200
TZNAME:CEST
DTSTART:20250330T010000
END:DAYLIGHT
BEGIN:STANDARD
TZOFFSETFROM:+0200
TZOFFSETTO:+0100
TZNAME:CET
DTSTART:20251026T010000
END:STANDARD
END:VTIMEZONE
BEGIN:VEVENT
DTSTART;TZID=Europe/Paris:20240504T000000
DTEND;TZID=Europe/Paris:20240505T000000
DTSTAMP:20260423T002012
CREATED:20231012T113901Z
LAST-MODIFIED:20231012T114547Z
UID:2408-1714780800-1714867200@kanbreizh.fr
SUMMARY:Fête du Muguet 2024
DESCRIPTION:Détails à venir …. \nClickez pour noter cet article.\n                                   \n                               [Total: 0  Moyenne: 0]
URL:https://kanbreizh.fr/event/fete-du-muguet-2024/
LOCATION:Rambouillet
CATEGORIES:Prestations,Spectacle
END:VEVENT
END:VCALENDAR