BEGIN:VCALENDAR
VERSION:2.0
PRODID:-//Cercle Celtique de Rambouillet - ECPv6.15.20//NONSGML v1.0//EN
CALSCALE:GREGORIAN
METHOD:PUBLISH
X-WR-CALNAME:Cercle Celtique de Rambouillet
X-ORIGINAL-URL:https://kanbreizh.fr
X-WR-CALDESC:Évènements pour Cercle Celtique de Rambouillet
REFRESH-INTERVAL;VALUE=DURATION:PT1H
X-Robots-Tag:noindex
X-PUBLISHED-TTL:PT1H
BEGIN:VTIMEZONE
TZID:Europe/Paris
BEGIN:DAYLIGHT
TZOFFSETFROM:+0100
TZOFFSETTO:+0200
TZNAME:CEST
DTSTART:20240331T010000
END:DAYLIGHT
BEGIN:STANDARD
TZOFFSETFROM:+0200
TZOFFSETTO:+0100
TZNAME:CET
DTSTART:20241027T010000
END:STANDARD
BEGIN:DAYLIGHT
TZOFFSETFROM:+0100
TZOFFSETTO:+0200
TZNAME:CEST
DTSTART:20250330T010000
END:DAYLIGHT
BEGIN:STANDARD
TZOFFSETFROM:+0200
TZOFFSETTO:+0100
TZNAME:CET
DTSTART:20251026T010000
END:STANDARD
BEGIN:DAYLIGHT
TZOFFSETFROM:+0100
TZOFFSETTO:+0200
TZNAME:CEST
DTSTART:20260329T010000
END:DAYLIGHT
BEGIN:STANDARD
TZOFFSETFROM:+0200
TZOFFSETTO:+0100
TZNAME:CET
DTSTART:20261025T010000
END:STANDARD
END:VTIMEZONE
BEGIN:VEVENT
DTSTART;TZID=Europe/Paris:20251004T200000
DTEND;TZID=Europe/Paris:20251004T230000
DTSTAMP:20260421T213413
CREATED:20250924T100748Z
LAST-MODIFIED:20250924T121713Z
UID:3945-1759608000-1759618800@kanbreizh.fr
SUMMARY:Fest noz aux Ulis
DESCRIPTION:Groupes \n\n\n\nKafe Koefet \n\n\n\nBob duo \n\n\n\nEstren \n\n\n\nPrix\n\n\n\n10 € / 5€ -16ans / gratuit -12ans \n\n\n\nLieu\n\n\n\nSalle des Fêtes de CourtaboeufAvenue Madagascar91940 Les Ulis \n\n\n\n\n\n\n\n\n\n\nClickez pour noter cet article.\n                                   \n                               [Total: 0  Moyenne: 0]
URL:https://kanbreizh.fr/event/fest-noz-aux-ulis/
ATTACH;FMTTYPE=image/png:https://kanbreizh.fr/wp-content/uploads/2025/09/Fest-Noz_2025_ulis.png
END:VEVENT
BEGIN:VEVENT
DTSTART;TZID=Europe/Paris:20251011T190000
DTEND;TZID=Europe/Paris:20251011T233000
DTSTAMP:20260421T213413
CREATED:20250924T100420Z
LAST-MODIFIED:20251002T144449Z
UID:3941-1760209200-1760225400@kanbreizh.fr
SUMMARY:Fest noz à Voisins le Bretonneux
DESCRIPTION:Groupes \n\n\n\nBalivernes \n\n\n\nDuo LoEn \n\n\n\nLes Diatos Ar Bernic \n\n\n\nPrix\n\n\n\n5 € adhérent6 € non adhérent \n\n\n\nLieu\n\n\n\nCentre Alfred de Vigny24 avenue du lycée78960 Voisins-le-BretonneuxParking : oui \n\n\n\n\n\n\n\n\n\n\nClickez pour noter cet article.\n                                   \n                               [Total: 0  Moyenne: 0]
URL:https://kanbreizh.fr/event/fest-noz-a-voisins-le-bretonneux/
ATTACH;FMTTYPE=image/png:https://kanbreizh.fr/wp-content/uploads/2025/09/Fest_noz_Voisins.png
END:VEVENT
BEGIN:VEVENT
DTSTART;TZID=Europe/Paris:20251012T150000
DTEND;TZID=Europe/Paris:20251012T190000
DTSTAMP:20260421T213413
CREATED:20250924T100053Z
LAST-MODIFIED:20250924T121627Z
UID:3938-1760281200-1760295600@kanbreizh.fr
SUMMARY:Fest deiz à Sartrouville
DESCRIPTION:Groupes \n\n\n\nKem’s \n\n\n\nBig Braz band \n\n\n\nLieu\n\n\n\nGymnase du Dispensaireparc du Dispensaire78500 SartrouvilleParking : oui \n\n\n\n\n\n\n\n\n\n\nClickez pour noter cet article.\n                                   \n                               [Total: 0  Moyenne: 0]
URL:https://kanbreizh.fr/event/fest-deiz-a-sartrouville/
ATTACH;FMTTYPE=image/png:https://kanbreizh.fr/wp-content/uploads/2025/09/Fest-deiz_2025_sartrouville.png
END:VEVENT
END:VCALENDAR