BEGIN:VCALENDAR
VERSION:2.0
PRODID:-//Cercle Celtique de Rambouillet - ECPv6.15.20//NONSGML v1.0//EN
CALSCALE:GREGORIAN
METHOD:PUBLISH
X-WR-CALNAME:Cercle Celtique de Rambouillet
X-ORIGINAL-URL:https://kanbreizh.fr
X-WR-CALDESC:Évènements pour Cercle Celtique de Rambouillet
REFRESH-INTERVAL;VALUE=DURATION:PT1H
X-Robots-Tag:noindex
X-PUBLISHED-TTL:PT1H
BEGIN:VTIMEZONE
TZID:Europe/Paris
BEGIN:DAYLIGHT
TZOFFSETFROM:+0100
TZOFFSETTO:+0200
TZNAME:CEST
DTSTART:20240331T010000
END:DAYLIGHT
BEGIN:STANDARD
TZOFFSETFROM:+0200
TZOFFSETTO:+0100
TZNAME:CET
DTSTART:20241027T010000
END:STANDARD
BEGIN:DAYLIGHT
TZOFFSETFROM:+0100
TZOFFSETTO:+0200
TZNAME:CEST
DTSTART:20250330T010000
END:DAYLIGHT
BEGIN:STANDARD
TZOFFSETFROM:+0200
TZOFFSETTO:+0100
TZNAME:CET
DTSTART:20251026T010000
END:STANDARD
BEGIN:DAYLIGHT
TZOFFSETFROM:+0100
TZOFFSETTO:+0200
TZNAME:CEST
DTSTART:20260329T010000
END:DAYLIGHT
BEGIN:STANDARD
TZOFFSETFROM:+0200
TZOFFSETTO:+0100
TZNAME:CET
DTSTART:20261025T010000
END:STANDARD
END:VTIMEZONE
BEGIN:VEVENT
DTSTART;TZID=Europe/Paris:20251206T193000
DTEND;TZID=Europe/Paris:20251206T233000
DTSTAMP:20260421T182059
CREATED:20251013T100640Z
LAST-MODIFIED:20251128T151247Z
UID:4166-1765049400-1765063800@kanbreizh.fr
SUMMARY:Fest Noz à Sartrouville
DESCRIPTION:GroupesKem’sBlain/LeyzourKazdall \n\n\n\nLieu\n\n\n\nEspace Gérard PhilippeRue Louise Michel78500 Sartrouville \n\n\n\n\n\n\n\n\n\n\nClickez pour noter cet article.\n                                   \n                               [Total: 0  Moyenne: 0]
URL:https://kanbreizh.fr/event/fest-noz-a-sartrouville-2/
END:VEVENT
BEGIN:VEVENT
DTSTART;TZID=Europe/Paris:20251207T140000
DTEND;TZID=Europe/Paris:20251207T170000
DTSTAMP:20260421T182059
CREATED:20251013T100104Z
LAST-MODIFIED:20251128T145915Z
UID:4163-1765116000-1765126800@kanbreizh.fr
SUMMARY:Fest deiz à Ponthévrard
DESCRIPTION:Groupes————BalivernesDuo LoEnLes Diatos Ar BernicMarMurKan Breizh \n\n\n\nPrix \n\n\n\nEntrée au chapeau \n\n\n\nLieu\n\n\n\nSalle polyvalenterue des vignes78730 PonthévrardParquet : ouiParking : oui \n\n\n\n\n\n\n\n\n\n\nClickez pour noter cet article.\n                                   \n                               [Total: 0  Moyenne: 0]
URL:https://kanbreizh.fr/event/fest-deiz-a-ponthevrard/
END:VEVENT
BEGIN:VEVENT
DTSTART;TZID=Europe/Paris:20251231T200000
DTEND;TZID=Europe/Paris:20251231T230000
DTSTAMP:20260421T182059
CREATED:20251214T161245Z
LAST-MODIFIED:20251214T161248Z
UID:4438-1767211200-1767222000@kanbreizh.fr
SUMMARY:Fest-noz St Rémy les Chevreuses
DESCRIPTION:Lieu\n\n\n\nSalle Jean RacineRue Ditte78470 Saint-Rémy-les-ChevreusesEntrée : 10€ \n\n\n\n\n\n\n\n\n\n\n\n\n\n\nClickez pour noter cet article.\n                                   \n                               [Total: 0  Moyenne: 0]
URL:https://kanbreizh.fr/event/fest-noz-st-remy-les-chevreuses/
END:VEVENT
END:VCALENDAR