BEGIN:VCALENDAR
VERSION:2.0
PRODID:-//Cercle Celtique de Rambouillet - ECPv6.15.20//NONSGML v1.0//EN
CALSCALE:GREGORIAN
METHOD:PUBLISH
X-WR-CALNAME:Cercle Celtique de Rambouillet
X-ORIGINAL-URL:https://kanbreizh.fr
X-WR-CALDESC:Évènements pour Cercle Celtique de Rambouillet
REFRESH-INTERVAL;VALUE=DURATION:PT1H
X-Robots-Tag:noindex
X-PUBLISHED-TTL:PT1H
BEGIN:VTIMEZONE
TZID:Europe/Paris
BEGIN:DAYLIGHT
TZOFFSETFROM:+0100
TZOFFSETTO:+0200
TZNAME:CEST
DTSTART:20250330T010000
END:DAYLIGHT
BEGIN:STANDARD
TZOFFSETFROM:+0200
TZOFFSETTO:+0100
TZNAME:CET
DTSTART:20251026T010000
END:STANDARD
BEGIN:DAYLIGHT
TZOFFSETFROM:+0100
TZOFFSETTO:+0200
TZNAME:CEST
DTSTART:20260329T010000
END:DAYLIGHT
BEGIN:STANDARD
TZOFFSETFROM:+0200
TZOFFSETTO:+0100
TZNAME:CET
DTSTART:20261025T010000
END:STANDARD
BEGIN:DAYLIGHT
TZOFFSETFROM:+0100
TZOFFSETTO:+0200
TZNAME:CEST
DTSTART:20270328T010000
END:DAYLIGHT
BEGIN:STANDARD
TZOFFSETFROM:+0200
TZOFFSETTO:+0100
TZNAME:CET
DTSTART:20271031T010000
END:STANDARD
END:VTIMEZONE
BEGIN:VEVENT
DTSTART;TZID=Europe/Paris:20260314T200000
DTEND;TZID=Europe/Paris:20260314T233000
DTSTAMP:20260421T134947
CREATED:20260221T163653Z
LAST-MODIFIED:20260221T163657Z
UID:4743-1773518400-1773531000@kanbreizh.fr
SUMMARY:Fest Noz à Orphin
DESCRIPTION:Clickez pour noter cet article.\n                                   \n                               [Total: 0  Moyenne: 0]
URL:https://kanbreizh.fr/event/fest-noz-a-orphin/
END:VEVENT
BEGIN:VEVENT
DTSTART;TZID=Europe/Paris:20260321T200000
DTEND;TZID=Europe/Paris:20260321T233000
DTSTAMP:20260421T134947
CREATED:20251214T162215Z
LAST-MODIFIED:20251214T162217Z
UID:4441-1774123200-1774135800@kanbreizh.fr
SUMMARY:Fest-noz Courbevoie 30 ans
DESCRIPTION:Groupes \n\n\n\nFahrenheitGloaguen/Le HenaffSonerien DuBagad Keriz  \n\n\n\n\n\n\n\n\n\n\n\n\n\n\nClickez pour noter cet article.\n                                   \n                               [Total: 0  Moyenne: 0]
URL:https://kanbreizh.fr/event/fest-noz-courbevoie-30-ans/
END:VEVENT
END:VCALENDAR